BEGIN:VCALENDAR
VERSION:2.0
PRODID:-//eventon.com NONSGML v1.0//EN
CALSCALE:GREGORIAN
METHOD:PUBLISH
BEGIN:VEVENT
UID:69eaf1a514431
DTSTAMP:20260424T042925Z
DTSTART:20240922T150000Z
DTEND:20240922T190000Z
LOCATION:Tower Grove Park 4378 Northwest Drive
SUMMARY:BCH Expo
DESCRIPTION:Sunday\,  September 22; 10 am &#8211; 2 pm Location: Tower Grov
 e Park&#8217;s Roman Pavilion- 4378 Northwest Dr\,  St. Louis\,  MO 63110 N
 ative Plant Vendors: River City Natives Papillon Perennials Missouri Wildfl
 owers Nursery Forrest Keeling Nursery What to Expect: Native Plant Themed A
 rt Bird and Bat Houses Informational Booths Activities for[..]\nhttps://stl
 ouisaudubon.org/events/bch-expo/
URL:https://stlouisaudubon.org/events/bch-expo/
END:VEVENT
END:VCALENDAR