BEGIN:VCALENDAR
VERSION:2.0
PRODID:-//eventon.com NONSGML v1.0//EN
CALSCALE:GREGORIAN
METHOD:PUBLISH
BEGIN:VEVENT
UID:69eba00150cf4
DTSTAMP:20260424T165321Z
DTSTART:20230218T223000Z
DTEND:20230219T003000Z
LOCATION:
SUMMARY:Owl Prowl- Forest Park
DESCRIPTION:Join award-winning naturalist Mark H.X. Glenshaw\,  aka The Owl
  Man\,  for an owl prowl in Forest Park.  You will learn about the Great H
 orned Owls he has closely observed and documented in the park for seventeen
  years.  The owl prowl will last around two hours and requires registratio
 n and proper[..]\nhttps://stlouisaudubon.org/events/owl-prowl-forest-park/
URL:https://stlouisaudubon.org/events/owl-prowl-forest-park/
END:VEVENT
END:VCALENDAR