BEGIN:VCALENDAR
VERSION:2.0
PRODID:-//eventon.com NONSGML v1.0//EN
CALSCALE:GREGORIAN
METHOD:PUBLISH
BEGIN:VEVENT
UID:69ec959878ae1
DTSTAMP:20260425T102112Z
DTSTART:20211201
DTEND:20220101
LOCATION:
SUMMARY:Bird Photography Contest
DESCRIPTION:Welcome to the Missouri River Bird Observatoryâ€™sÂ 6th AnnualÂ
  Photo Contest Submit photographs any time between November 1st and Decembe
 r 31st\,  2021. At MRBO\,  we believe that birds provide people with awe\, 
  happiness\,  and connection to the natural world. This connection benefits
  both adults and children in many ways.Â Â One of the goals[..]\nhttps://st
 louisaudubon.org/events/bird-photography-contest/
URL:https://stlouisaudubon.org/events/bird-photography-contest/
END:VEVENT
END:VCALENDAR